BEGIN:VCALENDAR
VERSION:2.0
PRODID:-//Herzenswunsch Niederrhein e.V. - ECPv6.15.20//NONSGML v1.0//EN
CALSCALE:GREGORIAN
METHOD:PUBLISH
X-ORIGINAL-URL:https://herzenswunsch-ndrh.de
X-WR-CALDESC:Veranstaltungen für Herzenswunsch Niederrhein e.V.
REFRESH-INTERVAL;VALUE=DURATION:PT1H
X-Robots-Tag:noindex
X-PUBLISHED-TTL:PT1H
BEGIN:VTIMEZONE
TZID:Europe/Berlin
BEGIN:DAYLIGHT
TZOFFSETFROM:+0100
TZOFFSETTO:+0200
TZNAME:CEST
DTSTART:20230326T010000
END:DAYLIGHT
BEGIN:STANDARD
TZOFFSETFROM:+0200
TZOFFSETTO:+0100
TZNAME:CET
DTSTART:20231029T010000
END:STANDARD
BEGIN:DAYLIGHT
TZOFFSETFROM:+0100
TZOFFSETTO:+0200
TZNAME:CEST
DTSTART:20240331T010000
END:DAYLIGHT
BEGIN:STANDARD
TZOFFSETFROM:+0200
TZOFFSETTO:+0100
TZNAME:CET
DTSTART:20241027T010000
END:STANDARD
BEGIN:DAYLIGHT
TZOFFSETFROM:+0100
TZOFFSETTO:+0200
TZNAME:CEST
DTSTART:20250330T010000
END:DAYLIGHT
BEGIN:STANDARD
TZOFFSETFROM:+0200
TZOFFSETTO:+0100
TZNAME:CET
DTSTART:20251026T010000
END:STANDARD
BEGIN:DAYLIGHT
TZOFFSETFROM:+0100
TZOFFSETTO:+0200
TZNAME:CEST
DTSTART:20260329T010000
END:DAYLIGHT
BEGIN:STANDARD
TZOFFSETFROM:+0200
TZOFFSETTO:+0100
TZNAME:CET
DTSTART:20261025T010000
END:STANDARD
END:VTIMEZONE
BEGIN:VEVENT
DTSTART;TZID=Europe/Berlin:20250823T140000
DTEND;TZID=Europe/Berlin:20250823T220000
DTSTAMP:20260420T160251
CREATED:20250721T101255Z
LAST-MODIFIED:20250721T101255Z
UID:1259-1755957600-1755986400@herzenswunsch-ndrh.de
SUMMARY:Festa Italiana - "Dolce Vita" im Gemeindezentrum Bedburg-Hau
DESCRIPTION:Unter dem Motto „Dolce Vita“ erwartet die Besucher ein Unterhaltungsprogramm mit stimmungsvoller Live-Musik\, die zum Tanzen und Mitfeiern einlädt. Kulinarische Highlights und Spezialitäten werden an Marktständen angeboten. \nGeplant ist um 15 Uhr ein Treffen der Motorsportfreunde. Zwei-\, Drei- und Vierradfreunde präsentieren klassische und historische italienische Fahrzeuge vom Ferrari bis zur Vespa. \nFür die Kleinen wird ein kurzweiliges Kinderprogramm mit Hüpfburg\, Kinderschminken\, Ballonkünstler etc. angeboten. \n\nDer Eintritt ist frei.\nOpen-Air Veranstaltung\n\n\nBesuchen Sie uns an unserem Infostand: \nLernen Sie unsere Arbeit kennen\, stellen Sie Fragen und informieren Sie sich über unsere Angebote. \nOb Sie selbst betroffen sind\, Angehörige*r oder einfach mehr über Kinder- und Jugendtrauer erfahren möchten – wir freuen uns auf Sie! \nWir sind mit unserem Stand bis 18.00 Uhr vor Ort. \n  \nDas Team der Trauerbegleitung von Herzenswunsch Niederrhein e.V.
URL:https://herzenswunsch-ndrh.de/event/festa-italiana-dolce-vita-im-gemeindezentrum-bedburg-hau/
LOCATION:Gemeindezentrum Bedburg-Hau\, Schulstr. 17\, Bedburg-Hau\, Nordrhein-Westfalen\, 47551\, Germany
END:VEVENT
BEGIN:VEVENT
DTSTART;TZID=Europe/Berlin:20250629T090000
DTEND;TZID=Europe/Berlin:20250629T160000
DTSTAMP:20260420T160251
CREATED:20250424T122323Z
LAST-MODIFIED:20250605T074327Z
UID:1211-1751187600-1751212800@herzenswunsch-ndrh.de
SUMMARY:Infostand auf dem Herbrand Niederrhein Triathlon 2025
DESCRIPTION:Besuchen Sie uns an unserem Infostand: \nLernen Sie unsere Arbeit kennen\, stellen Sie Fragen und informieren Sie sich über unsere Angebote. \nOb Sie selbst betroffen sind\, Angehörige*r oder einfach mehr über Kinder- und Jugendtrauer erfahren möchten – wir freuen uns auf Sie! \n  \nWas Sie erwartet: \n✨ Glücksrad – Dreht euer Glück und gewinnt fantastische Preise! \n🎁 Überraschungstüten – Spannende Überraschungen für Groß und Klein! \n🎨 Kinderschminken – Verwandelt euch in bunte Tiere\, Superhelden oder Märchenfiguren! \n💧 Haarsträhnen – Für jede Menge Spaß! \n  \nJe nach Wetterlage und Platz: \n🟡 Vier gewinnt XXL – Das große Strategiespiel für Jung und Alt! \n🎯 Ringwurfspiel – Zeigt eure Treffsicherheit und gewinnt tolle Preise! \n✨ Der heiße Draht – Zeigt eure ruhige Hand! \n  \nDas Team der Trauerbegleitung von Herzenswunsch Niederrhein e.V.
URL:https://herzenswunsch-ndrh.de/event/infostand-beim-triathlon-am-wisseler-see/
LOCATION:Wisseler See 15\, Kalkar\, 47546\, Germany
END:VEVENT
BEGIN:VEVENT
DTSTART;TZID=Europe/Berlin:20240628T170000
DTEND;TZID=Europe/Berlin:20240628T180000
DTSTAMP:20260420T160251
CREATED:20240421T122908Z
LAST-MODIFIED:20240421T122908Z
UID:1098-1719594000-1719597600@herzenswunsch-ndrh.de
SUMMARY:Trommelworkshop
DESCRIPTION:
URL:https://herzenswunsch-ndrh.de/event/trommelworkshop-4/
LOCATION:Nordrhein-Westfalen
END:VEVENT
BEGIN:VEVENT
DTSTART;TZID=Europe/Berlin:20240620T170000
DTEND;TZID=Europe/Berlin:20240620T180000
DTSTAMP:20260420T160251
CREATED:20240421T122831Z
LAST-MODIFIED:20240421T122831Z
UID:1096-1718902800-1718906400@herzenswunsch-ndrh.de
SUMMARY:WUKAS
DESCRIPTION:
URL:https://herzenswunsch-ndrh.de/event/wukas-4/
LOCATION:Nordrhein-Westfalen
END:VEVENT
BEGIN:VEVENT
DTSTART;TZID=Europe/Berlin:20240619T180000
DTEND;TZID=Europe/Berlin:20240619T210000
DTSTAMP:20260420T160251
CREATED:20240421T122749Z
LAST-MODIFIED:20240421T122749Z
UID:1094-1718820000-1718830800@herzenswunsch-ndrh.de
SUMMARY:Elternstammtisch
DESCRIPTION:
URL:https://herzenswunsch-ndrh.de/event/elternstammtisch-4/
LOCATION:Nordrhein-Westfalen
END:VEVENT
BEGIN:VEVENT
DTSTART;TZID=Europe/Berlin:20240614T173000
DTEND;TZID=Europe/Berlin:20240614T193000
DTSTAMP:20260420T160251
CREATED:20240421T122710Z
LAST-MODIFIED:20240421T122710Z
UID:1092-1718386200-1718393400@herzenswunsch-ndrh.de
SUMMARY:Jugend Trauergruppe
DESCRIPTION:
URL:https://herzenswunsch-ndrh.de/event/jugend-trauergruppe-2/
LOCATION:Nordrhein-Westfalen
END:VEVENT
BEGIN:VEVENT
DTSTART;TZID=Europe/Berlin:20240614T160000
DTEND;TZID=Europe/Berlin:20240614T180000
DTSTAMP:20260420T160251
CREATED:20240421T122634Z
LAST-MODIFIED:20240421T122634Z
UID:1090-1718380800-1718388000@herzenswunsch-ndrh.de
SUMMARY:Kinder Trauergruppe
DESCRIPTION:
URL:https://herzenswunsch-ndrh.de/event/kinder-trauergruppe-2/
LOCATION:Nordrhein-Westfalen
END:VEVENT
BEGIN:VEVENT
DTSTART;TZID=Europe/Berlin:20240524T170000
DTEND;TZID=Europe/Berlin:20240524T180000
DTSTAMP:20260420T160251
CREATED:20240421T122502Z
LAST-MODIFIED:20240421T122502Z
UID:1088-1716570000-1716573600@herzenswunsch-ndrh.de
SUMMARY:Trommelworkshop
DESCRIPTION:
URL:https://herzenswunsch-ndrh.de/event/trommelworkshop-3/
LOCATION:Nordrhein-Westfalen
END:VEVENT
BEGIN:VEVENT
DTSTART;TZID=Europe/Berlin:20240522T180000
DTEND;TZID=Europe/Berlin:20240522T210000
DTSTAMP:20260420T160251
CREATED:20240421T122316Z
LAST-MODIFIED:20240421T122316Z
UID:1084-1716400800-1716411600@herzenswunsch-ndrh.de
SUMMARY:Elternstammtisch
DESCRIPTION:
URL:https://herzenswunsch-ndrh.de/event/elternstammtisch-3/
LOCATION:Nordrhein-Westfalen
END:VEVENT
BEGIN:VEVENT
DTSTART;TZID=Europe/Berlin:20240516T170000
DTEND;TZID=Europe/Berlin:20240516T180000
DTSTAMP:20260420T160251
CREATED:20240421T122356Z
LAST-MODIFIED:20240421T122408Z
UID:1086-1715878800-1715882400@herzenswunsch-ndrh.de
SUMMARY:WUKAS
DESCRIPTION:
URL:https://herzenswunsch-ndrh.de/event/wukas-3/
LOCATION:Nordrhein-Westfalen
END:VEVENT
BEGIN:VEVENT
DTSTART;TZID=Europe/Berlin:20240510T173000
DTEND;TZID=Europe/Berlin:20240510T193000
DTSTAMP:20260420T160251
CREATED:20240421T122202Z
LAST-MODIFIED:20240421T122245Z
UID:1082-1715362200-1715369400@herzenswunsch-ndrh.de
SUMMARY:Jugend Trauergruppe
DESCRIPTION:
URL:https://herzenswunsch-ndrh.de/event/jugend-trauergruppe/
LOCATION:Nordrhein-Westfalen
END:VEVENT
BEGIN:VEVENT
DTSTART;TZID=Europe/Berlin:20240510T160000
DTEND;TZID=Europe/Berlin:20240510T180000
DTSTAMP:20260420T160251
CREATED:20240421T122025Z
LAST-MODIFIED:20240421T122025Z
UID:1080-1715356800-1715364000@herzenswunsch-ndrh.de
SUMMARY:Kinder Trauergruppe
DESCRIPTION:
URL:https://herzenswunsch-ndrh.de/event/kinder-trauergruppe/
LOCATION:Nordrhein-Westfalen
END:VEVENT
BEGIN:VEVENT
DTSTART;TZID=Europe/Berlin:20240504T190000
DTEND;TZID=Europe/Berlin:20240504T233000
DTSTAMP:20260420T160251
CREATED:20240421T121818Z
LAST-MODIFIED:20240421T121818Z
UID:1076-1714849200-1714865400@herzenswunsch-ndrh.de
SUMMARY:Frühlingsfest
DESCRIPTION:
URL:https://herzenswunsch-ndrh.de/event/fruehlingsfest/
LOCATION:Haus am See GochNess\, Klosterweg 136\, Goch\, 47574
END:VEVENT
BEGIN:VEVENT
DTSTART;TZID=Europe/Berlin:20240504T110000
DTEND;TZID=Europe/Berlin:20240504T170000
DTSTAMP:20260420T160251
CREATED:20240403T085937Z
LAST-MODIFIED:20240423T095455Z
UID:1070-1714820400-1714842000@herzenswunsch-ndrh.de
SUMMARY:Jahresfest
DESCRIPTION:
URL:https://herzenswunsch-ndrh.de/event/jahresfest/
LOCATION:Evangeliches Gemeindehaus in Goch\, Markt 4\, Goch\, 47574\, Deutschland
END:VEVENT
BEGIN:VEVENT
DTSTART;TZID=Europe/Berlin:20240322T170000
DTEND;TZID=Europe/Berlin:20240322T180000
DTSTAMP:20260420T160251
CREATED:20240226T095955Z
LAST-MODIFIED:20240226T095955Z
UID:1067-1711126800-1711130400@herzenswunsch-ndrh.de
SUMMARY:Trommelworkshop
DESCRIPTION:
URL:https://herzenswunsch-ndrh.de/event/trommelworkshop-2/
LOCATION:Nordrhein-Westfalen
END:VEVENT
BEGIN:VEVENT
DTSTART;TZID=Europe/Berlin:20240321T170000
DTEND;TZID=Europe/Berlin:20240321T183000
DTSTAMP:20260420T160251
CREATED:20240226T095845Z
LAST-MODIFIED:20240226T100048Z
UID:1065-1711040400-1711045800@herzenswunsch-ndrh.de
SUMMARY:WUKAS
DESCRIPTION:
URL:https://herzenswunsch-ndrh.de/event/wukas-2/
LOCATION:Nordrhein-Westfalen
END:VEVENT
BEGIN:VEVENT
DTSTART;TZID=Europe/Berlin:20240320T180000
DTEND;TZID=Europe/Berlin:20240320T210000
DTSTAMP:20260420T160251
CREATED:20240226T095728Z
LAST-MODIFIED:20240226T095802Z
UID:1063-1710957600-1710968400@herzenswunsch-ndrh.de
SUMMARY:Elternstammtisch
DESCRIPTION:
URL:https://herzenswunsch-ndrh.de/event/elternstammtisch-2/
LOCATION:Nordrhein-Westfalen
END:VEVENT
BEGIN:VEVENT
DTSTART;TZID=Europe/Berlin:20240316T100000
DTEND;TZID=Europe/Berlin:20240316T160000
DTSTAMP:20260420T160251
CREATED:20240226T095544Z
LAST-MODIFIED:20240226T095544Z
UID:1061-1710583200-1710604800@herzenswunsch-ndrh.de
SUMMARY:Fortbildung für unsere Trauerbegleiter und Gruppen-Helfer
DESCRIPTION:Aromen und ihre Wirkung
URL:https://herzenswunsch-ndrh.de/event/fortbildung-fuer-unsere-trauerbegleiter-und-gruppen-helfer/
LOCATION:Nordrhein-Westfalen
END:VEVENT
BEGIN:VEVENT
DTSTART;TZID=Europe/Berlin:20240308T173000
DTEND;TZID=Europe/Berlin:20240308T193000
DTSTAMP:20260420T160251
CREATED:20240226T095423Z
LAST-MODIFIED:20240226T095423Z
UID:1059-1709919000-1709926200@herzenswunsch-ndrh.de
SUMMARY:Jugendtrauergruppe
DESCRIPTION:
URL:https://herzenswunsch-ndrh.de/event/jugendtrauergruppe/
LOCATION:Nordrhein-Westfalen
END:VEVENT
BEGIN:VEVENT
DTSTART;TZID=Europe/Berlin:20240308T160000
DTEND;TZID=Europe/Berlin:20240308T180000
DTSTAMP:20260420T160251
CREATED:20240226T095316Z
LAST-MODIFIED:20240226T095326Z
UID:1057-1709913600-1709920800@herzenswunsch-ndrh.de
SUMMARY:Kindertrauergruppe
DESCRIPTION:
URL:https://herzenswunsch-ndrh.de/event/kindertrauergruppe/
LOCATION:Nordrhein-Westfalen
END:VEVENT
BEGIN:VEVENT
DTSTART;VALUE=DATE:20240224
DTEND;VALUE=DATE:20240226
DTSTAMP:20260420T160251
CREATED:20240206T171850Z
LAST-MODIFIED:20240207T081346Z
UID:950-1708732800-1708905599@herzenswunsch-ndrh.de
SUMMARY:Theaterwochenende 24.02.-25.02.2024
DESCRIPTION:
URL:https://herzenswunsch-ndrh.de/event/theaterwochenende/
LOCATION:Nordrhein-Westfalen
CATEGORIES:Theaterwochenende
END:VEVENT
BEGIN:VEVENT
DTSTART;TZID=Europe/Berlin:20240223T170000
DTEND;TZID=Europe/Berlin:20240223T180000
DTSTAMP:20260420T160251
CREATED:20240206T171753Z
LAST-MODIFIED:20240207T073225Z
UID:948-1708707600-1708711200@herzenswunsch-ndrh.de
SUMMARY:Trommelworkshop
DESCRIPTION:
URL:https://herzenswunsch-ndrh.de/event/trommelworkshop/
LOCATION:Nordrhein-Westfalen
END:VEVENT
BEGIN:VEVENT
DTSTART;TZID=Europe/Berlin:20240221T160000
DTEND;TZID=Europe/Berlin:20240221T173000
DTSTAMP:20260420T160251
CREATED:20240206T171710Z
LAST-MODIFIED:20240207T073254Z
UID:946-1708531200-1708536600@herzenswunsch-ndrh.de
SUMMARY:Elternstammtisch
DESCRIPTION:
URL:https://herzenswunsch-ndrh.de/event/elternstammtisch/
LOCATION:Nordrhein-Westfalen
END:VEVENT
BEGIN:VEVENT
DTSTART;VALUE=DATE:20240218
DTEND;VALUE=DATE:20240219
DTSTAMP:20260420T160251
CREATED:20240206T171350Z
LAST-MODIFIED:20240207T073353Z
UID:941-1708214400-1708300799@herzenswunsch-ndrh.de
SUMMARY:Theaterworkshop
DESCRIPTION:
URL:https://herzenswunsch-ndrh.de/event/theaterworkshop/
LOCATION:Nordrhein-Westfalen
END:VEVENT
BEGIN:VEVENT
DTSTART;TZID=Europe/Berlin:20240215T170000
DTEND;TZID=Europe/Berlin:20240215T183000
DTSTAMP:20260420T160251
CREATED:20240206T171301Z
LAST-MODIFIED:20240208T073501Z
UID:939-1708016400-1708021800@herzenswunsch-ndrh.de
SUMMARY:WUKAS
DESCRIPTION:
URL:https://herzenswunsch-ndrh.de/event/wukas/
LOCATION:Nordrhein-Westfalen
ATTACH;FMTTYPE=image/jpeg:https://herzenswunsch-ndrh.de/wp-content/uploads/2024/02/Wukas.jpg
END:VEVENT
BEGIN:VEVENT
DTSTART;TZID=Europe/Berlin:20240208T173000
DTEND;TZID=Europe/Berlin:20240208T193000
DTSTAMP:20260420T160251
CREATED:20240207T065006Z
LAST-MODIFIED:20240208T073154Z
UID:1003-1707413400-1707420600@herzenswunsch-ndrh.de
SUMMARY:Jugendtrauergruppe
DESCRIPTION:
URL:https://herzenswunsch-ndrh.de/event/trauergruppe-2/
LOCATION:Nordrhein-Westfalen
END:VEVENT
BEGIN:VEVENT
DTSTART;TZID=Europe/Berlin:20240208T160000
DTEND;TZID=Europe/Berlin:20240208T180000
DTSTAMP:20260420T160251
CREATED:20240206T170540Z
LAST-MODIFIED:20240208T073241Z
UID:934-1707408000-1707415200@herzenswunsch-ndrh.de
SUMMARY:Kindertrauergruppe
DESCRIPTION:
URL:https://herzenswunsch-ndrh.de/event/trauergruppe/
LOCATION:Nordrhein-Westfalen
END:VEVENT
END:VCALENDAR